BEGIN:VCALENDAR
VERSION:2.0
PRODID:-//Joachim Karl Schäfer - ECPv6.15.14//NONSGML v1.0//EN
CALSCALE:GREGORIAN
METHOD:PUBLISH
X-WR-CALNAME:Joachim Karl Schäfer
X-ORIGINAL-URL:https://joachim-schaefer.com
X-WR-CALDESC:Veranstaltungen für Joachim Karl Schäfer
REFRESH-INTERVAL;VALUE=DURATION:PT1H
X-Robots-Tag:noindex
X-PUBLISHED-TTL:PT1H
BEGIN:VTIMEZONE
TZID:Europe/Berlin
BEGIN:DAYLIGHT
TZOFFSETFROM:+0100
TZOFFSETTO:+0200
TZNAME:CEST
DTSTART:20250330T010000
END:DAYLIGHT
BEGIN:STANDARD
TZOFFSETFROM:+0200
TZOFFSETTO:+0100
TZNAME:CET
DTSTART:20251026T010000
END:STANDARD
BEGIN:DAYLIGHT
TZOFFSETFROM:+0100
TZOFFSETTO:+0200
TZNAME:CEST
DTSTART:20260329T010000
END:DAYLIGHT
BEGIN:STANDARD
TZOFFSETFROM:+0200
TZOFFSETTO:+0100
TZNAME:CET
DTSTART:20261025T010000
END:STANDARD
BEGIN:DAYLIGHT
TZOFFSETFROM:+0100
TZOFFSETTO:+0200
TZNAME:CEST
DTSTART:20270328T010000
END:DAYLIGHT
BEGIN:STANDARD
TZOFFSETFROM:+0200
TZOFFSETTO:+0100
TZNAME:CET
DTSTART:20271031T010000
END:STANDARD
END:VTIMEZONE
BEGIN:VEVENT
DTSTART;VALUE=DATE:20260416
DTEND;VALUE=DATE:20260417
DTSTAMP:20260422T110657
CREATED:20260130T114805Z
LAST-MODIFIED:20260130T114805Z
UID:2177-1776297600-1776383999@joachim-schaefer.com
SUMMARY:Schülerkonzerte mit Kornett & dem Preußischen Kammerorchester
DESCRIPTION:
URL:https://joachim-schaefer.com/event/schuelerkonzerte-mit-kornett-dem-preussischen-kammerorchester/
LOCATION:16306 Gartz (Oder)
END:VEVENT
END:VCALENDAR