BEGIN:VCALENDAR
VERSION:2.0
PRODID:-//Joachim Karl Schäfer - ECPv6.15.14//NONSGML v1.0//EN
CALSCALE:GREGORIAN
METHOD:PUBLISH
X-ORIGINAL-URL:https://joachim-schaefer.com
X-WR-CALDESC:Veranstaltungen für Joachim Karl Schäfer
REFRESH-INTERVAL;VALUE=DURATION:PT1H
X-Robots-Tag:noindex
X-PUBLISHED-TTL:PT1H
BEGIN:VTIMEZONE
TZID:Europe/Berlin
BEGIN:DAYLIGHT
TZOFFSETFROM:+0100
TZOFFSETTO:+0200
TZNAME:CEST
DTSTART:20240331T010000
END:DAYLIGHT
BEGIN:STANDARD
TZOFFSETFROM:+0200
TZOFFSETTO:+0100
TZNAME:CET
DTSTART:20241027T010000
END:STANDARD
BEGIN:DAYLIGHT
TZOFFSETFROM:+0100
TZOFFSETTO:+0200
TZNAME:CEST
DTSTART:20250330T010000
END:DAYLIGHT
BEGIN:STANDARD
TZOFFSETFROM:+0200
TZOFFSETTO:+0100
TZNAME:CET
DTSTART:20251026T010000
END:STANDARD
BEGIN:DAYLIGHT
TZOFFSETFROM:+0100
TZOFFSETTO:+0200
TZNAME:CEST
DTSTART:20260329T010000
END:DAYLIGHT
BEGIN:STANDARD
TZOFFSETFROM:+0200
TZOFFSETTO:+0100
TZNAME:CET
DTSTART:20261025T010000
END:STANDARD
END:VTIMEZONE
BEGIN:VEVENT
DTSTART;TZID=Europe/Berlin:20250614T170000
DTEND;TZID=Europe/Berlin:20250614T183000
DTSTAMP:20260421T124356
CREATED:20250509T120036Z
LAST-MODIFIED:20250509T120036Z
UID:1363-1749920400-1749925800@joachim-schaefer.com
SUMMARY:Ein musikalischer Gastvortrag | "Musik und Schöpfung"
DESCRIPTION:
URL:https://joachim-schaefer.com/event/ein-musikalischer-gastvortrag-musik-und-schoepfung-4/
LOCATION:Schloss Zinzendorf Berthelsdorf\, 02747 Herrnhut
END:VEVENT
END:VCALENDAR