BEGIN:VCALENDAR
VERSION:2.0
PRODID:-//Joachim Karl Schäfer - ECPv6.15.14//NONSGML v1.0//EN
CALSCALE:GREGORIAN
METHOD:PUBLISH
X-ORIGINAL-URL:https://joachim-schaefer.com
X-WR-CALDESC:Veranstaltungen für Joachim Karl Schäfer
REFRESH-INTERVAL;VALUE=DURATION:PT1H
X-Robots-Tag:noindex
X-PUBLISHED-TTL:PT1H
BEGIN:VTIMEZONE
TZID:Europe/Berlin
BEGIN:DAYLIGHT
TZOFFSETFROM:+0100
TZOFFSETTO:+0200
TZNAME:CEST
DTSTART:20240331T010000
END:DAYLIGHT
BEGIN:STANDARD
TZOFFSETFROM:+0200
TZOFFSETTO:+0100
TZNAME:CET
DTSTART:20241027T010000
END:STANDARD
BEGIN:DAYLIGHT
TZOFFSETFROM:+0100
TZOFFSETTO:+0200
TZNAME:CEST
DTSTART:20250330T010000
END:DAYLIGHT
BEGIN:STANDARD
TZOFFSETFROM:+0200
TZOFFSETTO:+0100
TZNAME:CET
DTSTART:20251026T010000
END:STANDARD
BEGIN:DAYLIGHT
TZOFFSETFROM:+0100
TZOFFSETTO:+0200
TZNAME:CEST
DTSTART:20260329T010000
END:DAYLIGHT
BEGIN:STANDARD
TZOFFSETFROM:+0200
TZOFFSETTO:+0100
TZNAME:CET
DTSTART:20261025T010000
END:STANDARD
END:VTIMEZONE
BEGIN:VEVENT
DTSTART;TZID=Europe/Berlin:20250204T170000
DTEND;TZID=Europe/Berlin:20250204T170000
DTSTAMP:20260425T222317
CREATED:20250407T075143Z
LAST-MODIFIED:20250407T081344Z
UID:683-1738688400-1738688400@joachim-schaefer.com
SUMMARY:Die Dresdner Solisten
DESCRIPTION:
URL:https://joachim-schaefer.com/event/die-dresdner-solisten/
LOCATION:Gutshaus Ludwigsburg | 17291 Schenkenberg/Schönfeld
END:VEVENT
END:VCALENDAR